BEGIN:VCALENDAR
VERSION:2.0
PRODID:-//Singidunum Gaming Club - ECPv6.15.12.2//NONSGML v1.0//EN
CALSCALE:GREGORIAN
METHOD:PUBLISH
X-ORIGINAL-URL:https://singidunumgamingclub.com
X-WR-CALDESC:Events for Singidunum Gaming Club
REFRESH-INTERVAL;VALUE=DURATION:PT1H
X-Robots-Tag:noindex
X-PUBLISHED-TTL:PT1H
BEGIN:VTIMEZONE
TZID:Europe/Belgrade
BEGIN:DAYLIGHT
TZOFFSETFROM:+0100
TZOFFSETTO:+0200
TZNAME:CEST
DTSTART:20250330T010000
END:DAYLIGHT
BEGIN:STANDARD
TZOFFSETFROM:+0200
TZOFFSETTO:+0100
TZNAME:CET
DTSTART:20251026T010000
END:STANDARD
BEGIN:DAYLIGHT
TZOFFSETFROM:+0100
TZOFFSETTO:+0200
TZNAME:CEST
DTSTART:20260329T010000
END:DAYLIGHT
BEGIN:STANDARD
TZOFFSETFROM:+0200
TZOFFSETTO:+0100
TZNAME:CET
DTSTART:20261025T010000
END:STANDARD
BEGIN:DAYLIGHT
TZOFFSETFROM:+0100
TZOFFSETTO:+0200
TZNAME:CEST
DTSTART:20270328T010000
END:DAYLIGHT
BEGIN:STANDARD
TZOFFSETFROM:+0200
TZOFFSETTO:+0100
TZNAME:CET
DTSTART:20271031T010000
END:STANDARD
END:VTIMEZONE
BEGIN:VEVENT
DTSTART;TZID=Europe/Belgrade:20260117T083000
DTEND;TZID=Europe/Belgrade:20260117T210000
DTSTAMP:20260420T033130
CREATED:20260119T102251Z
LAST-MODIFIED:20260119T102251Z
UID:236692-1768638600-1768683600@singidunumgamingclub.com
SUMMARY:Shadows over the 500 worlds Warhammer 40\,000 Monthly Tournament
DESCRIPTION:Subota 17.01.2026 od 8:30 ujutru održava se 40K turnir u Singidunum Gaming Club-u\, Bulevar Despota Stefana 68 u Beogradu. \n2000 poena\, 3 partije. Obavezno je da svi modeli budu barem under coated. \nSvi su dobrodošli! \nOznačite going kako bi vas dodali na spisak učesnika! \nBroj učesnika je ograničen na 16. \nKotizacija je RSD 1000\, za članove kluba RSD 500.
URL:https://singidunumgamingclub.com/event/shadows-over-the-500-worlds-warhammer-40000-monthly-tournament/
LOCATION:Singidunum Gaming Club\, Bulevar Despota Stefana 68b\, Belgrade\, 11000\, Serbia
CATEGORIES:RTT,Tournament
ORGANIZER;CN="Singidunum Gaming Club":MAILTO:contact@singidunumgamingclub.com
END:VEVENT
BEGIN:VEVENT
DTSTART;TZID=Europe/Belgrade:20260117T140000
DTEND;TZID=Europe/Belgrade:20260117T190000
DTSTAMP:20260420T033130
CREATED:20260119T101243Z
LAST-MODIFIED:20260119T101243Z
UID:236678-1768658400-1768676400@singidunumgamingclub.com
SUMMARY:Open Play 17-01-2026
DESCRIPTION:
URL:https://singidunumgamingclub.com/event/open-play-17-01-2026/
LOCATION:Singidunum Gaming Club\, Bulevar Despota Stefana 68b\, Belgrade\, 11000\, Serbia
ATTACH;FMTTYPE=image/png:https://singidunumgamingclub.com/wp-content/uploads/2026/01/SGC_OPEN-PLAY_fin.png
ORGANIZER;CN="Singidunum Gaming Club":MAILTO:contact@singidunumgamingclub.com
END:VEVENT
END:VCALENDAR