BEGIN:VCALENDAR
VERSION:2.0
PRODID:-//Singidunum Gaming Club - ECPv6.15.12.2//NONSGML v1.0//EN
CALSCALE:GREGORIAN
METHOD:PUBLISH
X-ORIGINAL-URL:https://singidunumgamingclub.com
X-WR-CALDESC:Events for Singidunum Gaming Club
REFRESH-INTERVAL;VALUE=DURATION:PT1H
X-Robots-Tag:noindex
X-PUBLISHED-TTL:PT1H
BEGIN:VTIMEZONE
TZID:Europe/Belgrade
BEGIN:DAYLIGHT
TZOFFSETFROM:+0100
TZOFFSETTO:+0200
TZNAME:CEST
DTSTART:20240331T010000
END:DAYLIGHT
BEGIN:STANDARD
TZOFFSETFROM:+0200
TZOFFSETTO:+0100
TZNAME:CET
DTSTART:20241027T010000
END:STANDARD
BEGIN:DAYLIGHT
TZOFFSETFROM:+0100
TZOFFSETTO:+0200
TZNAME:CEST
DTSTART:20250330T010000
END:DAYLIGHT
BEGIN:STANDARD
TZOFFSETFROM:+0200
TZOFFSETTO:+0100
TZNAME:CET
DTSTART:20251026T010000
END:STANDARD
BEGIN:DAYLIGHT
TZOFFSETFROM:+0100
TZOFFSETTO:+0200
TZNAME:CEST
DTSTART:20260329T010000
END:DAYLIGHT
BEGIN:STANDARD
TZOFFSETFROM:+0200
TZOFFSETTO:+0100
TZNAME:CET
DTSTART:20261025T010000
END:STANDARD
BEGIN:DAYLIGHT
TZOFFSETFROM:+0100
TZOFFSETTO:+0200
TZNAME:CEST
DTSTART:20270328T010000
END:DAYLIGHT
BEGIN:STANDARD
TZOFFSETFROM:+0200
TZOFFSETTO:+0100
TZNAME:CET
DTSTART:20271031T010000
END:STANDARD
END:VTIMEZONE
BEGIN:VEVENT
DTSTART;TZID=Europe/Belgrade:20251018T083000
DTEND;TZID=Europe/Belgrade:20251018T210000
DTSTAMP:20260420T003504
CREATED:20250921T194658Z
LAST-MODIFIED:20250921T200354Z
UID:236620-1760776200-1760821200@singidunumgamingclub.com
SUMMARY:Warhammer 40\,000 Monthly Tournament – October Purge
DESCRIPTION:⚔️ Warhammer 40\,000 Monthly Tournament – October Purge ⚔️\nThe grim darkness of the far future descends once again upon Belgrade! Gather your armies and prepare for October Purge\, the next installment of Singidunum Gaming Club’s monthly Warhammer 40\,000 tournament. \n📍 Venue: Singidunum Gaming Club\, Bulevar Despota Stefana 68\, Belgrade\, Serbia📅 Date: Saturday\, October 18th\, 2025⏰ Start Time: 8:30 AM🎲 Format: 3 Rounds | WTC Ruleset⚔️ Army Size: 2000 Points \nPainting Requirement: All models must be at least undercoated to compete. \n💰 Entry Fee: \n\n\n1000 RSD per player \n\n\n500 RSD for club members \n\n\n👥 Player Cap: Only 16 slots available – secure your place early! \nWhether you seek glory\, honor\, or simply the thrill of battle\, the October Purge will test your skill\, tactics\, and determination. Will your army rise above the carnage—or be purged from the battlefield? \n🔗 Don’t miss your chance—sign up now and join the fight!
URL:https://singidunumgamingclub.com/event/warhammer-40000-monthly-tournament-october-purge/
LOCATION:Singidunum Gaming Club\, Bulevar Despota Stefana 68b\, Belgrade\, 11000\, Serbia
CATEGORIES:RTT,Tournament
ATTACH;FMTTYPE=image/jpeg:https://singidunumgamingclub.com/wp-content/uploads/2025/09/October-Purge.jpg
END:VEVENT
BEGIN:VEVENT
DTSTART;TZID=Europe/Belgrade:20260103T110000
DTEND;TZID=Europe/Belgrade:20260103T180000
DTSTAMP:20260420T003504
CREATED:20260119T100813Z
LAST-MODIFIED:20260119T100813Z
UID:236667-1767438000-1767463200@singidunumgamingclub.com
SUMMARY:Open Play
DESCRIPTION:
URL:https://singidunumgamingclub.com/event/open-play/
LOCATION:Singidunum Gaming Club\, Bulevar Despota Stefana 68b\, Belgrade\, 11000\, Serbia
ATTACH;FMTTYPE=image/png:https://singidunumgamingclub.com/wp-content/uploads/2026/01/SGC_OPEN-PLAY_fin.png
ORGANIZER;CN="Singidunum Gaming Club":MAILTO:contact@singidunumgamingclub.com
END:VEVENT
BEGIN:VEVENT
DTSTART;TZID=Europe/Belgrade:20260104T140000
DTEND;TZID=Europe/Belgrade:20260104T190000
DTSTAMP:20260420T003504
CREATED:20260119T100919Z
LAST-MODIFIED:20260119T100919Z
UID:236670-1767535200-1767553200@singidunumgamingclub.com
SUMMARY:Open Play 04-01-2026
DESCRIPTION:
URL:https://singidunumgamingclub.com/event/open-play-04-01-2026/
LOCATION:Singidunum Gaming Club\, Bulevar Despota Stefana 68b\, Belgrade\, 11000\, Serbia
ATTACH;FMTTYPE=image/png:https://singidunumgamingclub.com/wp-content/uploads/2026/01/SGC_OPEN-PLAY_fin.png
ORGANIZER;CN="Singidunum Gaming Club":MAILTO:contact@singidunumgamingclub.com
END:VEVENT
BEGIN:VEVENT
DTSTART;TZID=Europe/Belgrade:20260110T110000
DTEND;TZID=Europe/Belgrade:20260110T150000
DTSTAMP:20260420T003504
CREATED:20260119T101011Z
LAST-MODIFIED:20260119T101011Z
UID:236672-1768042800-1768057200@singidunumgamingclub.com
SUMMARY:Open Play 10-01-2026
DESCRIPTION:
URL:https://singidunumgamingclub.com/event/open-play-10-01-2026/
LOCATION:Singidunum Gaming Club\, Bulevar Despota Stefana 68b\, Belgrade\, 11000\, Serbia
ATTACH;FMTTYPE=image/png:https://singidunumgamingclub.com/wp-content/uploads/2026/01/SGC_OPEN-PLAY_fin.png
ORGANIZER;CN="Singidunum Gaming Club":MAILTO:contact@singidunumgamingclub.com
END:VEVENT
BEGIN:VEVENT
DTSTART;TZID=Europe/Belgrade:20260111T140000
DTEND;TZID=Europe/Belgrade:20260111T180000
DTSTAMP:20260420T003504
CREATED:20260119T101110Z
LAST-MODIFIED:20260119T101110Z
UID:236674-1768140000-1768154400@singidunumgamingclub.com
SUMMARY:Open Play 11-01-2026
DESCRIPTION:
URL:https://singidunumgamingclub.com/event/open-play-11-01-2026/
LOCATION:Singidunum Gaming Club\, Bulevar Despota Stefana 68b\, Belgrade\, 11000\, Serbia
ATTACH;FMTTYPE=image/png:https://singidunumgamingclub.com/wp-content/uploads/2026/01/SGC_OPEN-PLAY_fin.png
ORGANIZER;CN="Singidunum Gaming Club":MAILTO:contact@singidunumgamingclub.com
END:VEVENT
BEGIN:VEVENT
DTSTART;TZID=Europe/Belgrade:20260114T180000
DTEND;TZID=Europe/Belgrade:20260114T210000
DTSTAMP:20260420T003504
CREATED:20260119T101155Z
LAST-MODIFIED:20260119T101155Z
UID:236676-1768413600-1768424400@singidunumgamingclub.com
SUMMARY:Open Play 14-01-2026
DESCRIPTION:
URL:https://singidunumgamingclub.com/event/open-play-14-01-2026/
LOCATION:Singidunum Gaming Club\, Bulevar Despota Stefana 68b\, Belgrade\, 11000\, Serbia
ATTACH;FMTTYPE=image/png:https://singidunumgamingclub.com/wp-content/uploads/2026/01/SGC_OPEN-PLAY_fin.png
ORGANIZER;CN="Singidunum Gaming Club":MAILTO:contact@singidunumgamingclub.com
END:VEVENT
BEGIN:VEVENT
DTSTART;TZID=Europe/Belgrade:20260117T083000
DTEND;TZID=Europe/Belgrade:20260117T210000
DTSTAMP:20260420T003504
CREATED:20260119T102251Z
LAST-MODIFIED:20260119T102251Z
UID:236692-1768638600-1768683600@singidunumgamingclub.com
SUMMARY:Shadows over the 500 worlds Warhammer 40\,000 Monthly Tournament
DESCRIPTION:Subota 17.01.2026 od 8:30 ujutru održava se 40K turnir u Singidunum Gaming Club-u\, Bulevar Despota Stefana 68 u Beogradu. \n2000 poena\, 3 partije. Obavezno je da svi modeli budu barem under coated. \nSvi su dobrodošli! \nOznačite going kako bi vas dodali na spisak učesnika! \nBroj učesnika je ograničen na 16. \nKotizacija je RSD 1000\, za članove kluba RSD 500.
URL:https://singidunumgamingclub.com/event/shadows-over-the-500-worlds-warhammer-40000-monthly-tournament/
LOCATION:Singidunum Gaming Club\, Bulevar Despota Stefana 68b\, Belgrade\, 11000\, Serbia
CATEGORIES:RTT,Tournament
ORGANIZER;CN="Singidunum Gaming Club":MAILTO:contact@singidunumgamingclub.com
END:VEVENT
BEGIN:VEVENT
DTSTART;TZID=Europe/Belgrade:20260117T140000
DTEND;TZID=Europe/Belgrade:20260117T190000
DTSTAMP:20260420T003504
CREATED:20260119T101243Z
LAST-MODIFIED:20260119T101243Z
UID:236678-1768658400-1768676400@singidunumgamingclub.com
SUMMARY:Open Play 17-01-2026
DESCRIPTION:
URL:https://singidunumgamingclub.com/event/open-play-17-01-2026/
LOCATION:Singidunum Gaming Club\, Bulevar Despota Stefana 68b\, Belgrade\, 11000\, Serbia
ATTACH;FMTTYPE=image/png:https://singidunumgamingclub.com/wp-content/uploads/2026/01/SGC_OPEN-PLAY_fin.png
ORGANIZER;CN="Singidunum Gaming Club":MAILTO:contact@singidunumgamingclub.com
END:VEVENT
BEGIN:VEVENT
DTSTART;TZID=Europe/Belgrade:20260118T140000
DTEND;TZID=Europe/Belgrade:20260118T180000
DTSTAMP:20260420T003504
CREATED:20260119T101326Z
LAST-MODIFIED:20260119T101326Z
UID:236680-1768744800-1768759200@singidunumgamingclub.com
SUMMARY:Open Play 18-01-2026
DESCRIPTION:
URL:https://singidunumgamingclub.com/event/open-play-18-01-2026/
LOCATION:Singidunum Gaming Club\, Bulevar Despota Stefana 68b\, Belgrade\, 11000\, Serbia
ATTACH;FMTTYPE=image/png:https://singidunumgamingclub.com/wp-content/uploads/2026/01/SGC_OPEN-PLAY_fin.png
ORGANIZER;CN="Singidunum Gaming Club":MAILTO:contact@singidunumgamingclub.com
END:VEVENT
BEGIN:VEVENT
DTSTART;TZID=Europe/Belgrade:20260121T180000
DTEND;TZID=Europe/Belgrade:20260121T210000
DTSTAMP:20260420T003504
CREATED:20260119T101417Z
LAST-MODIFIED:20260119T101417Z
UID:236682-1769018400-1769029200@singidunumgamingclub.com
SUMMARY:Open Play 21-01-2026
DESCRIPTION:
URL:https://singidunumgamingclub.com/event/open-play-21-01-2026/
LOCATION:Singidunum Gaming Club\, Bulevar Despota Stefana 68b\, Belgrade\, 11000\, Serbia
ATTACH;FMTTYPE=image/png:https://singidunumgamingclub.com/wp-content/uploads/2026/01/SGC_OPEN-PLAY_fin.png
ORGANIZER;CN="Singidunum Gaming Club":MAILTO:contact@singidunumgamingclub.com
END:VEVENT
BEGIN:VEVENT
DTSTART;TZID=Europe/Belgrade:20260124T140000
DTEND;TZID=Europe/Belgrade:20260124T190000
DTSTAMP:20260420T003504
CREATED:20260119T101502Z
LAST-MODIFIED:20260119T101502Z
UID:236684-1769263200-1769281200@singidunumgamingclub.com
SUMMARY:Open Play 24-01-2026
DESCRIPTION:
URL:https://singidunumgamingclub.com/event/open-play-24-01-2026/
LOCATION:Singidunum Gaming Club\, Bulevar Despota Stefana 68b\, Belgrade\, 11000\, Serbia
ATTACH;FMTTYPE=image/png:https://singidunumgamingclub.com/wp-content/uploads/2026/01/SGC_OPEN-PLAY_fin.png
ORGANIZER;CN="Singidunum Gaming Club":MAILTO:contact@singidunumgamingclub.com
END:VEVENT
BEGIN:VEVENT
DTSTART;TZID=Europe/Belgrade:20260125T150000
DTEND;TZID=Europe/Belgrade:20260125T190000
DTSTAMP:20260420T003504
CREATED:20260119T101547Z
LAST-MODIFIED:20260119T101547Z
UID:236686-1769353200-1769367600@singidunumgamingclub.com
SUMMARY:Open Play 25-01-2026
DESCRIPTION:
URL:https://singidunumgamingclub.com/event/open-play-25-01-2026/
LOCATION:Singidunum Gaming Club\, Bulevar Despota Stefana 68b\, Belgrade\, 11000\, Serbia
ATTACH;FMTTYPE=image/png:https://singidunumgamingclub.com/wp-content/uploads/2026/01/SGC_OPEN-PLAY_fin.png
ORGANIZER;CN="Singidunum Gaming Club":MAILTO:contact@singidunumgamingclub.com
END:VEVENT
BEGIN:VEVENT
DTSTART;TZID=Europe/Belgrade:20260127T180000
DTEND;TZID=Europe/Belgrade:20260127T210000
DTSTAMP:20260420T003504
CREATED:20260119T101632Z
LAST-MODIFIED:20260119T101632Z
UID:236688-1769536800-1769547600@singidunumgamingclub.com
SUMMARY:Open Play 27-01-2026
DESCRIPTION:
URL:https://singidunumgamingclub.com/event/open-play-27-01-2026/
LOCATION:Singidunum Gaming Club\, Bulevar Despota Stefana 68b\, Belgrade\, 11000\, Serbia
ATTACH;FMTTYPE=image/png:https://singidunumgamingclub.com/wp-content/uploads/2026/01/SGC_OPEN-PLAY_fin.png
ORGANIZER;CN="Singidunum Gaming Club":MAILTO:contact@singidunumgamingclub.com
END:VEVENT
BEGIN:VEVENT
DTSTART;TZID=Europe/Belgrade:20260128T180000
DTEND;TZID=Europe/Belgrade:20260128T210000
DTSTAMP:20260420T003504
CREATED:20260119T101718Z
LAST-MODIFIED:20260119T101718Z
UID:236690-1769623200-1769634000@singidunumgamingclub.com
SUMMARY:Open Play 28-01-2026
DESCRIPTION:
URL:https://singidunumgamingclub.com/event/open-play-28-01-2026/
LOCATION:Singidunum Gaming Club\, Bulevar Despota Stefana 68b\, Belgrade\, 11000\, Serbia
ATTACH;FMTTYPE=image/png:https://singidunumgamingclub.com/wp-content/uploads/2026/01/SGC_OPEN-PLAY_fin.png
ORGANIZER;CN="Singidunum Gaming Club":MAILTO:contact@singidunumgamingclub.com
END:VEVENT
END:VCALENDAR