BEGIN:VCALENDAR
VERSION:2.0
PRODID:-//Singidunum Gaming Club - ECPv6.15.12.2//NONSGML v1.0//EN
CALSCALE:GREGORIAN
METHOD:PUBLISH
X-WR-CALNAME:Singidunum Gaming Club
X-ORIGINAL-URL:https://singidunumgamingclub.com
X-WR-CALDESC:Events for Singidunum Gaming Club
REFRESH-INTERVAL;VALUE=DURATION:PT1H
X-Robots-Tag:noindex
X-PUBLISHED-TTL:PT1H
BEGIN:VTIMEZONE
TZID:Europe/Belgrade
BEGIN:DAYLIGHT
TZOFFSETFROM:+0100
TZOFFSETTO:+0200
TZNAME:CEST
DTSTART:20210328T010000
END:DAYLIGHT
BEGIN:STANDARD
TZOFFSETFROM:+0200
TZOFFSETTO:+0100
TZNAME:CET
DTSTART:20211031T010000
END:STANDARD
BEGIN:DAYLIGHT
TZOFFSETFROM:+0100
TZOFFSETTO:+0200
TZNAME:CEST
DTSTART:20220327T010000
END:DAYLIGHT
BEGIN:STANDARD
TZOFFSETFROM:+0200
TZOFFSETTO:+0100
TZNAME:CET
DTSTART:20221030T010000
END:STANDARD
BEGIN:DAYLIGHT
TZOFFSETFROM:+0100
TZOFFSETTO:+0200
TZNAME:CEST
DTSTART:20230326T010000
END:DAYLIGHT
BEGIN:STANDARD
TZOFFSETFROM:+0200
TZOFFSETTO:+0100
TZNAME:CET
DTSTART:20231029T010000
END:STANDARD
END:VTIMEZONE
BEGIN:VEVENT
DTSTART;TZID=Europe/Belgrade:20221030T170000
DTEND;TZID=Europe/Belgrade:20221030T220000
DTSTAMP:20260420T083625
CREATED:20221025T191941Z
LAST-MODIFIED:20221025T191941Z
UID:220-1667149200-1667167200@singidunumgamingclub.com
SUMMARY:Radionica farbanja figura
DESCRIPTION:
URL:https://singidunumgamingclub.com/event/radionica-farbanja-figura/
LOCATION:Singidunum Gaming Club\, Bulevar Despota Stefana 68b\, Belgrade\, 11000\, Serbia
CATEGORIES:Painting
ORGANIZER;CN="Singidunum Gaming Club":MAILTO:contact@singidunumgamingclub.com
END:VEVENT
BEGIN:VEVENT
DTSTART;TZID=Europe/Belgrade:20221022T093000
DTEND;TZID=Europe/Belgrade:20221022T220000
DTSTAMP:20260420T083625
CREATED:20221019T172414Z
LAST-MODIFIED:20221019T172414Z
UID:217-1666431000-1666476000@singidunumgamingclub.com
SUMMARY:Game Day 40K
DESCRIPTION:FIX BAYONETS !!!\n22. oktobra od 9:30 ujutru održava se Game Day za igranje 40k\, 2000 poena\, u Singidunum Gaming Clubu\, u Beogradu – u Bulevaru despota Stefana broj 68.\nPravo vreme za pripreme za Singidunum Winter Clash!!!\nOznačite going kako bi vas dodali na spisak učesnika!\nBroj učesnika je ogranicen na 16.\nUlaz za članove kluba SGC je slobodan\, dok će ostali igrači plaćati kootizacijju od simboličnih 500 dinara
URL:https://singidunumgamingclub.com/event/game-day-40k/
LOCATION:Singidunum Gaming Club\, Bulevar Despota Stefana 68b\, Belgrade\, 11000\, Serbia
ATTACH;FMTTYPE=image/jpeg:https://singidunumgamingclub.com/wp-content/uploads/2022/10/SGC_GameDay.jpg
END:VEVENT
BEGIN:VEVENT
DTSTART;TZID=Europe/Belgrade:20221008T090000
DTEND;TZID=Europe/Belgrade:20221008T170000
DTSTAMP:20260420T083625
CREATED:20220920T003624Z
LAST-MODIFIED:20220920T003624Z
UID:149-1665219600-1665248400@singidunumgamingclub.com
SUMMARY:Warhammer 40K RTT
DESCRIPTION:08. oktobra\, Singidunum Gaming Club organizuje jednodnevni 40K turnir\, 2000 poena\, 3 partije.\n\nSVI MODELI U LISTI MORAJU BITI BAREM UNDERCOUTOVANI !!!\n\nOkupljanje u 9h\, koristiće se Chapter Approved Nephilim GT kao i aktuelni Balance dataslate.\n\nBroj učesnika je ogranicen na 16.\n\nUlaz za članove kluba SGC je 700 dinara\, dok će ostali igrači plaćati kootizacijju od 1000 dinara.\n\nDa se prijavite na turnir kliknite ovde.
URL:https://singidunumgamingclub.com/event/warhammer-40k-rtt/
LOCATION:Singidunum Gaming Club\, Bulevar Despota Stefana 68b\, Belgrade\, 11000\, Serbia
ATTACH;FMTTYPE=image/png:https://singidunumgamingclub.com/wp-content/uploads/2022/09/SGC_40K_RTT_Tourney_October.png
ORGANIZER;CN="Singidunum Gaming Club":MAILTO:contact@singidunumgamingclub.com
END:VEVENT
BEGIN:VEVENT
DTSTART;TZID=Europe/Belgrade:20221001T120000
DTEND;TZID=Europe/Belgrade:20221001T180000
DTSTAMP:20260420T083625
CREATED:20220921T124907Z
LAST-MODIFIED:20220921T124907Z
UID:170-1664625600-1664647200@singidunumgamingclub.com
SUMMARY:First Blood Demo
DESCRIPTION:Zbog velikog interesovanja članova kluba za demo partije First Blood-a smo odlučili da napravimo zvaničan event ! Vrata kluba su otvorena za svakoga ko želi da proba\, bez obzira na članstvo.\nU klubu će vas dočekati 8 bandi i 2 table terena\, postavljeni sa početnim scenarijima\, nši organizatori će vam objasniti kako se igra i dati priliku da i sami probate igru\, vidimo se prvog 🤗😇 !
URL:https://singidunumgamingclub.com/event/first-blood-demo/
LOCATION:Singidunum Gaming Club\, Bulevar Despota Stefana 68b\, Belgrade\, 11000\, Serbia
ATTACH;FMTTYPE=image/png:https://singidunumgamingclub.com/wp-content/uploads/2022/09/SGC_FirstBloodDemo.png
ORGANIZER;CN="Singidunum Gaming Club":MAILTO:contact@singidunumgamingclub.com
END:VEVENT
BEGIN:VEVENT
DTSTART;TZID=Europe/Belgrade:20220925T093000
DTEND;TZID=Europe/Belgrade:20220925T200000
DTSTAMP:20260420T083625
CREATED:20220920T003105Z
LAST-MODIFIED:20220920T003105Z
UID:143-1664098200-1664136000@singidunumgamingclub.com
SUMMARY:Singidunum September Brawl - T9A
DESCRIPTION:U nedelju\, 25. septembra\, u prostorijama Singidunum gaming cluba će se održati jednodnevni turnir u Devetom dobu – Singidunum September Brawl -T9A.\n\nIgraće se tri partije sa nasumičnom postavkom i objektivima\, sa listama od 4500 poena.\n\nUčešće je 500 dinara za članove Singidunuma i Ragnaroka\, za ostale učesnike turnira upad je 1000 dinara. 30% novca od kootizacije ide klubu\, a 70% u nagradni fond. Količina i veličina nagrada zavidi od broja učesnika\n\nZa turnir se možete prijaviti na ovom linku: https://tourneykeeper.net/Singles/TKLeaderboard.aspx?Id=6168 . Prijave traju do 18. septembra.\n\nSatnica za turnir je sledeća:\n\n9:30 – 10:00 prijave\nPrva partija\n10:00 – 13:00\nPauza za ručak\n13:00 – 14:00\nDruga partija\n14:00 – 17:00\nTreća partija\n17:00 – 20:00\nVidimo se!
URL:https://singidunumgamingclub.com/event/singidunum-september-brawl-t9a/
LOCATION:Singidunum Gaming Club\, Bulevar Despota Stefana 68b\, Belgrade\, 11000\, Serbia
CATEGORIES:9TA
ATTACH;FMTTYPE=image/png:https://singidunumgamingclub.com/wp-content/uploads/2022/09/SGC_9TA_Tourney_September.png
END:VEVENT
END:VCALENDAR