BEGIN:VCALENDAR
VERSION:2.0
PRODID:-//Singidunum Gaming Club - ECPv6.15.12.2//NONSGML v1.0//EN
CALSCALE:GREGORIAN
METHOD:PUBLISH
X-ORIGINAL-URL:https://singidunumgamingclub.com
X-WR-CALDESC:Events for Singidunum Gaming Club
REFRESH-INTERVAL;VALUE=DURATION:PT1H
X-Robots-Tag:noindex
X-PUBLISHED-TTL:PT1H
BEGIN:VTIMEZONE
TZID:Europe/Belgrade
BEGIN:DAYLIGHT
TZOFFSETFROM:+0100
TZOFFSETTO:+0200
TZNAME:CEST
DTSTART:20240331T010000
END:DAYLIGHT
BEGIN:STANDARD
TZOFFSETFROM:+0200
TZOFFSETTO:+0100
TZNAME:CET
DTSTART:20241027T010000
END:STANDARD
BEGIN:DAYLIGHT
TZOFFSETFROM:+0100
TZOFFSETTO:+0200
TZNAME:CEST
DTSTART:20250330T010000
END:DAYLIGHT
BEGIN:STANDARD
TZOFFSETFROM:+0200
TZOFFSETTO:+0100
TZNAME:CET
DTSTART:20251026T010000
END:STANDARD
BEGIN:DAYLIGHT
TZOFFSETFROM:+0100
TZOFFSETTO:+0200
TZNAME:CEST
DTSTART:20260329T010000
END:DAYLIGHT
BEGIN:STANDARD
TZOFFSETFROM:+0200
TZOFFSETTO:+0100
TZNAME:CET
DTSTART:20261025T010000
END:STANDARD
END:VTIMEZONE
BEGIN:VEVENT
DTSTART;TZID=Europe/Belgrade:20250906T083000
DTEND;TZID=Europe/Belgrade:20250906T210000
DTSTAMP:20260423T115114
CREATED:20250829T190646Z
LAST-MODIFIED:20250829T191113Z
UID:236527-1757147400-1757192400@singidunumgamingclub.com
SUMMARY:September Slaughter – Warhammer 40\,000 Monthly Tournament
DESCRIPTION:The grim darkness of the far future has descended upon Belgrade once again! On September 6th\, 2025\, starting at 8:30 AM\, the Singidunum Gaming Club is proud to host its monthly Warhammer 40\,000 tournament – this time under the fitting title: “September Slaughter.” \nHeld at our club on Bulevar Despota Stefana 68b\, this event has brought together a diverse and passionate group of players\, all showcasing their stunningly painted 2000-point armies in a day of strategic clashes\, rolling dice\, and hobby camaraderie. \nThe tournament is running under the World Team Championship (WTC) ruleset\, ensuring competitive balance and fair play across three epic rounds\, each lasting three hours. The result? A perfect mix of tactical depth\, friendly competition\, and unforgettable battles on the tabletop. \nEven if you’re not playing\, there’s still time to stop by and check out the action. Come admire the incredible craftsmanship on display\, meet fellow hobbyists\, and experience the excitement of the 41st Millennium unfolding in miniature form. \nThinking of getting into Warhammer 40\,000 yourself? Singidunum Gaming Club is the premier hub for tabletop wargaming in Belgrade\, and our doors are always open to newcomers. Consider becoming a member and joining a growing community where painting\, gaming\, and storytelling collide in the most epic way possible. \nWhether you fight for the Emperor\, the Dark Gods\, or something in between — the battlefield awaits. \nSee you at September Slaughter!
URL:https://singidunumgamingclub.com/event/september-slaughter-warhammer-40000-monthly-tournament/
LOCATION:Singidunum Gaming Club\, Bulevar Despota Stefana 68b\, Belgrade\, 11000\, Serbia
CATEGORIES:RTT,Tournament
ATTACH;FMTTYPE=image/png:https://singidunumgamingclub.com/wp-content/uploads/2025/08/Septermber-Slaughter-Promo.png
ORGANIZER;CN="Singidunum Gaming Club":MAILTO:contact@singidunumgamingclub.com
END:VEVENT
END:VCALENDAR